BEGIN:VCALENDAR
VERSION:2.0
PRODID:-//Ayuntamiento de Burgohondo - ECPv6.15.20//NONSGML v1.0//EN
CALSCALE:GREGORIAN
METHOD:PUBLISH
X-ORIGINAL-URL:https://burgohondo.es
X-WR-CALDESC:Eventos para Ayuntamiento de Burgohondo
REFRESH-INTERVAL;VALUE=DURATION:PT1H
X-Robots-Tag:noindex
X-PUBLISHED-TTL:PT1H
BEGIN:VTIMEZONE
TZID:Europe/Madrid
BEGIN:DAYLIGHT
TZOFFSETFROM:+0100
TZOFFSETTO:+0200
TZNAME:CEST
DTSTART:20220327T010000
END:DAYLIGHT
BEGIN:STANDARD
TZOFFSETFROM:+0200
TZOFFSETTO:+0100
TZNAME:CET
DTSTART:20221030T010000
END:STANDARD
BEGIN:DAYLIGHT
TZOFFSETFROM:+0100
TZOFFSETTO:+0200
TZNAME:CEST
DTSTART:20230326T010000
END:DAYLIGHT
BEGIN:STANDARD
TZOFFSETFROM:+0200
TZOFFSETTO:+0100
TZNAME:CET
DTSTART:20231029T010000
END:STANDARD
BEGIN:DAYLIGHT
TZOFFSETFROM:+0100
TZOFFSETTO:+0200
TZNAME:CEST
DTSTART:20240331T010000
END:DAYLIGHT
BEGIN:STANDARD
TZOFFSETFROM:+0200
TZOFFSETTO:+0100
TZNAME:CET
DTSTART:20241027T010000
END:STANDARD
END:VTIMEZONE
BEGIN:VEVENT
DTSTART;VALUE=DATE:20230730
DTEND;VALUE=DATE:20230804
DTSTAMP:20260419T182745
CREATED:20230712T110411Z
LAST-MODIFIED:20230712T110411Z
UID:8450-1690675200-1691107199@burgohondo.es
SUMMARY:Campeonato infantil y femenino de fútbol plaza
DESCRIPTION:
URL:https://burgohondo.es/event/campeonato-infantil-y-femenino-de-futbol-plaza
LOCATION:Burgohondo\, Plaza Mayor Adolfo Suárez\, 1\, Burgohondo\, Ávila\, 05113\, Spain
END:VEVENT
END:VCALENDAR