BEGIN:VCALENDAR
VERSION:2.0
PRODID:-//Ayuntamiento de Burgohondo - ECPv6.15.20//NONSGML v1.0//EN
CALSCALE:GREGORIAN
METHOD:PUBLISH
X-ORIGINAL-URL:https://burgohondo.es
X-WR-CALDESC:Eventos para Ayuntamiento de Burgohondo
REFRESH-INTERVAL;VALUE=DURATION:PT1H
X-Robots-Tag:noindex
X-PUBLISHED-TTL:PT1H
BEGIN:VTIMEZONE
TZID:Europe/Madrid
BEGIN:DAYLIGHT
TZOFFSETFROM:+0100
TZOFFSETTO:+0200
TZNAME:CEST
DTSTART:20220327T010000
END:DAYLIGHT
BEGIN:STANDARD
TZOFFSETFROM:+0200
TZOFFSETTO:+0100
TZNAME:CET
DTSTART:20221030T010000
END:STANDARD
BEGIN:DAYLIGHT
TZOFFSETFROM:+0100
TZOFFSETTO:+0200
TZNAME:CEST
DTSTART:20230326T010000
END:DAYLIGHT
BEGIN:STANDARD
TZOFFSETFROM:+0200
TZOFFSETTO:+0100
TZNAME:CET
DTSTART:20231029T010000
END:STANDARD
BEGIN:DAYLIGHT
TZOFFSETFROM:+0100
TZOFFSETTO:+0200
TZNAME:CEST
DTSTART:20240331T010000
END:DAYLIGHT
BEGIN:STANDARD
TZOFFSETFROM:+0200
TZOFFSETTO:+0100
TZNAME:CET
DTSTART:20241027T010000
END:STANDARD
END:VTIMEZONE
BEGIN:VEVENT
DTSTART;TZID=Europe/Madrid:20230701T080000
DTEND;TZID=Europe/Madrid:20230717T170000
DTSTAMP:20260419T200259
CREATED:20230701T110527Z
LAST-MODIFIED:20230701T110527Z
UID:8431-1688198400-1689613200@burgohondo.es
SUMMARY:IV CONCURSO DE DIBUJOS PARA ESGRAFIADOS
DESCRIPTION:IV CONCURSO DE DIBUJOS PARA ESGRAFIADO \nLa Asociación Cultural María Auxiliadora en colaboración con el Ayuntamiento de Burgohondo\, ha decidido que este año la temática del esgrafiado será el 50º ANIVERSARIO DEL CLUB DE FÚTBOL. \nConsistirá en la realización de un mural esgrafiado en el hastial izquierdo del CAMPO DE FÚTBOL “EL CHORRITO”. \nSe realizará con técnicas artesanales y se ejecutará por artesanos de la localidad sin ningún coste. \nCon el fin de elegir el motivo se ha decidido convocar un concurso para que todo el mundo que quiera pueda participar enviando un dibujo. \nBASES DEL CONCURSO \n-La temática del dibujo deberá estar relacionada con el CLUB DE FÚTBOL\, puede ir acompañado de un pequeño texto o poesía. \n-Podrá participar cualquier persona que quiera sin límite de edad. \n-Los dibujos se presentarán en formato DIN A3 ó DIN A4 sobre fondo blanco. \n-Se pueden presentar tanto físicamente en el Ayuntamiento de lunes a viernes\, como por correo electrónico burmaux@gmail.com \n-Para la elección del dibujo\, por parte del jurado se tendrá en cuenta no sólo la temática y la calidad\, sino la idoneidad del mismo para la realización del mural esgrafiado (las figuras deben ser planas y sin excesivo colorido) \n-Todas las obras presentadas serán expuestas en la sala de exposiciones del Centro Cultural. \n-El ganador recibirá una placa por parte del Ayuntamiento y tendrá la opción de participar en la ejecución del mural\, se esgrafiará el nombre del autor en el Mural. \n-El plazo para recibir los dibujos será hasta el 17 de julio \n-El 22 de julio se llevará a cabo el Mural. \nANÍMATE Y EXPRIME TU IMAGINACIÓN: TU DIBUJO VA A CONVERTIRSE EN UNA OBRA DE ARTE PARA LA POSTERIDAD\, CON TU FIRMA
URL:https://burgohondo.es/event/iv-concurso-de-dibujos-para-esgrafiados
END:VEVENT
END:VCALENDAR