BEGIN:VCALENDAR
VERSION:2.0
PRODID:-//Ayuntamiento de Burgohondo - ECPv6.15.20//NONSGML v1.0//EN
CALSCALE:GREGORIAN
METHOD:PUBLISH
X-WR-CALNAME:Ayuntamiento de Burgohondo
X-ORIGINAL-URL:https://burgohondo.es
X-WR-CALDESC:Eventos para Ayuntamiento de Burgohondo
REFRESH-INTERVAL;VALUE=DURATION:PT1H
X-Robots-Tag:noindex
X-PUBLISHED-TTL:PT1H
BEGIN:VTIMEZONE
TZID:Europe/Madrid
BEGIN:DAYLIGHT
TZOFFSETFROM:+0100
TZOFFSETTO:+0200
TZNAME:CEST
DTSTART:20220327T010000
END:DAYLIGHT
BEGIN:STANDARD
TZOFFSETFROM:+0200
TZOFFSETTO:+0100
TZNAME:CET
DTSTART:20221030T010000
END:STANDARD
BEGIN:DAYLIGHT
TZOFFSETFROM:+0100
TZOFFSETTO:+0200
TZNAME:CEST
DTSTART:20230326T010000
END:DAYLIGHT
BEGIN:STANDARD
TZOFFSETFROM:+0200
TZOFFSETTO:+0100
TZNAME:CET
DTSTART:20231029T010000
END:STANDARD
BEGIN:DAYLIGHT
TZOFFSETFROM:+0100
TZOFFSETTO:+0200
TZNAME:CEST
DTSTART:20240331T010000
END:DAYLIGHT
BEGIN:STANDARD
TZOFFSETFROM:+0200
TZOFFSETTO:+0100
TZNAME:CET
DTSTART:20241027T010000
END:STANDARD
END:VTIMEZONE
BEGIN:VEVENT
DTSTART;TZID=Europe/Madrid:20230225T130000
DTEND;TZID=Europe/Madrid:20230225T150000
DTSTAMP:20260421T203836
CREATED:20230216T083029Z
LAST-MODIFIED:20230216T083539Z
UID:8069-1677330000-1677337200@burgohondo.es
SUMMARY:I Premio Ayto. de Burgohondo BTT. Copa de Escuelas CyL
DESCRIPTION:
URL:https://burgohondo.es/event/i-premio-ayto-de-burgohondo-btt-copa-de-escuelas-cyl
END:VEVENT
END:VCALENDAR